BEGIN:VCALENDAR
VERSION:2.0
PRODID:-//RAC - ECPv6.15.17.1//NONSGML v1.0//EN
CALSCALE:GREGORIAN
METHOD:PUBLISH
X-ORIGINAL-URL:https://rac.rw
X-WR-CALDESC:Events for RAC
REFRESH-INTERVAL;VALUE=DURATION:PT1H
X-Robots-Tag:noindex
X-PUBLISHED-TTL:PT1H
BEGIN:VTIMEZONE
TZID:UTC
BEGIN:STANDARD
TZOFFSETFROM:+0000
TZOFFSETTO:+0000
TZNAME:UTC
DTSTART:20230101T000000
END:STANDARD
END:VTIMEZONE
BEGIN:VEVENT
DTSTART;VALUE=DATE:20241018
DTEND;VALUE=DATE:20241021
DTSTAMP:20260421T183029
CREATED:20200504T181127Z
LAST-MODIFIED:20241115T072000Z
UID:1741-1729209600-1729468799@rac.rw
SUMMARY:ARC 5- RWANDA MOUNTAIN GORILLA RALLY
DESCRIPTION:
URL:https://rac.rw/event/arc-5-rwanda-mountain-gorilla-rally/
LOCATION:Kigali – Rwanda\, 23VV+MQ9\, Convention Ctr Roundabout\, Kigali\, Kigali\, Kigali City\, Rwanda
CATEGORIES:Astrology
END:VEVENT
BEGIN:VEVENT
DTSTART;VALUE=DATE:20241018
DTEND;VALUE=DATE:20241021
DTSTAMP:20260421T183029
CREATED:20200716T143837Z
LAST-MODIFIED:20241115T071906Z
UID:8860-1729209600-1729468799@rac.rw
SUMMARY:RNRC A RWANDA MOUNTAIN GORILLA RALLY
DESCRIPTION:
URL:https://rac.rw/event/rnrc-a-rwanda-mountain-gorilla-rally/
LOCATION:Kigali – Rwanda\, 23VV+MQ9\, Convention Ctr Roundabout\, Kigali\, Kigali\, Kigali City\, Rwanda
CATEGORIES:FIA
END:VEVENT
BEGIN:VEVENT
DTSTART;VALUE=DATE:20240920
DTEND;VALUE=DATE:20240923
DTSTAMP:20260421T183029
CREATED:20230112T160440Z
LAST-MODIFIED:20241115T071749Z
UID:24792-1726790400-1727049599@rac.rw
SUMMARY:ARC 4 - BURUNDI INTERNATIONAL RALLY
DESCRIPTION:
URL:https://rac.rw/event/arc-4-burundi-international-rally/
LOCATION:Kigali – Rwanda\, 23VV+MQ9\, Convention Ctr Roundabout\, Kigali\, Kigali\, Kigali City\, Rwanda
CATEGORIES:FIA
END:VEVENT
BEGIN:VEVENT
DTSTART;VALUE=DATE:20240823
DTEND;VALUE=DATE:20240826
DTSTAMP:20260421T183029
CREATED:20200428T135723Z
LAST-MODIFIED:20241115T071659Z
UID:1210-1724371200-1724630399@rac.rw
SUMMARY:ARC 3 - RALLY OF TANZANIA (CANCELLED)
DESCRIPTION:
URL:https://rac.rw/event/arc-3-rally-of-tanzania-cancelled/
LOCATION:Kigali – Rwanda\, 23VV+MQ9\, Convention Ctr Roundabout\, Kigali\, Kigali\, Kigali City\, Rwanda
CATEGORIES:FIA
END:VEVENT
BEGIN:VEVENT
DTSTART;VALUE=DATE:20240726
DTEND;VALUE=DATE:20240729
DTSTAMP:20260421T183029
CREATED:20200428T133115Z
LAST-MODIFIED:20241115T071629Z
UID:45865-1721952000-1722211199@rac.rw
SUMMARY:ARC 2- ZAMBIA INTERNATIONAL RALLY
DESCRIPTION:
URL:https://rac.rw/event/arc-2-zambia-international-rally/
LOCATION:Kigali – Rwanda\, 23VV+MQ9\, Convention Ctr Roundabout\, Kigali\, Kigali\, Kigali City\, Rwanda
CATEGORIES:FIA
END:VEVENT
BEGIN:VEVENT
DTSTART;VALUE=DATE:20240714
DTEND;VALUE=DATE:20240717
DTSTAMP:20260421T183029
CREATED:20230112T160329Z
LAST-MODIFIED:20241115T071600Z
UID:24789-1720915200-1721174399@rac.rw
SUMMARY:RNRC 2 HUYE RALLY
DESCRIPTION:
URL:https://rac.rw/event/rnrc-2-huye-rally/
LOCATION:Kigali – Rwanda\, 23VV+MQ9\, Convention Ctr Roundabout\, Kigali\, Kigali\, Kigali City\, Rwanda
CATEGORIES:FIA
END:VEVENT
BEGIN:VEVENT
DTSTART;VALUE=DATE:20240510
DTEND;VALUE=DATE:20240513
DTSTAMP:20260421T183029
CREATED:20200428T140044Z
LAST-MODIFIED:20241115T071534Z
UID:1213-1715299200-1715558399@rac.rw
SUMMARY:ARC 1 - PEARL OF AFRICA UGANDA RALLY
DESCRIPTION:
URL:https://rac.rw/event/arc-1-pearl-of-africa-uganda-rally/
LOCATION:Kigali – Rwanda\, 23VV+MQ9\, Convention Ctr Roundabout\, Kigali\, Kigali\, Kigali City\, Rwanda
CATEGORIES:FIA
END:VEVENT
BEGIN:VEVENT
DTSTART;VALUE=DATE:20240330
DTEND;VALUE=DATE:20240331
DTSTAMP:20260421T183029
CREATED:20200428T140523Z
LAST-MODIFIED:20241115T071454Z
UID:1215-1711756800-1711843199@rac.rw
SUMMARY:RNRC 1 -SPRINT RALLY (UMUKO/MUHAZI)|
DESCRIPTION:
URL:https://rac.rw/event/rnrc-1-sprint-rally-umuko-muhazi/
LOCATION:Kigali – Rwanda\, 23VV+MQ9\, Convention Ctr Roundabout\, Kigali\, Kigali\, Kigali City\, Rwanda
CATEGORIES:FIA
END:VEVENT
END:VCALENDAR