BEGIN:VCALENDAR
VERSION:2.0
PRODID:-//RAC - ECPv6.15.17.1//NONSGML v1.0//EN
CALSCALE:GREGORIAN
METHOD:PUBLISH
X-WR-CALNAME:RAC
X-ORIGINAL-URL:https://rac.rw
X-WR-CALDESC:Events for RAC
REFRESH-INTERVAL;VALUE=DURATION:PT1H
X-Robots-Tag:noindex
X-PUBLISHED-TTL:PT1H
BEGIN:VTIMEZONE
TZID:UTC
BEGIN:STANDARD
TZOFFSETFROM:+0000
TZOFFSETTO:+0000
TZNAME:UTC
DTSTART:20230101T000000
END:STANDARD
END:VTIMEZONE
BEGIN:VEVENT
DTSTART;TZID=UTC:20241209T080000
DTEND;TZID=UTC:20241213T170000
DTSTAMP:20260421T165817
CREATED:20241115T061626Z
LAST-MODIFIED:20241115T111505Z
UID:54711-1733731200-1734109200@rac.rw
SUMMARY:FIA General Assemblies & FIA Awards 2024
DESCRIPTION:First Time in Africa – Making History in Rwanda\nMake history with us as the FIA General Assembly and Prize Giving Ceremony comes to Africa for the first time. From December 9-13\, 2024\, Kigali\, Rwanda will host this prestigious event\, bringing together 800+ global motorsport leaders\, champions\, and manufacturers. Watch as world-class achievements are celebrated at the spectacular Prize Giving Ceremony\, while special initiatives like “Girls on Track” and the “Safe Helmet Launch” showcase Rwanda’s commitment to motorsport innovation. Join us for this landmark occasion where global motorsport excellence meets Rwandan hospitality. \n\n\n\n\n\n\nEvent Highlights\n\n\n\nFIA World Champions and Manufacturers Awards Ceremony\nGlobal Broadcast via Formula 1 Channel\nInternational Motorsport Community Gathering\n\n\nSpecial Initiatives\n\n\n\nGirls on Track\nSafe Helmet Launch\nCross-car Model Initiative\nSustainability Conference
URL:https://rac.rw/event/fia-general-assemblies-fia-awards-2024/
LOCATION:Kigali Convention Centre\, 23VV+MQ9\, Convention Ctr Roundabout\, Kigali\, Rwanda\, -1.9545696208445218\, 30.09385280468204\, Rwanda
CATEGORIES:FIA
ATTACH;FMTTYPE=image/jpeg:https://rac.rw/wp-content/uploads/2024/11/fffa-min.jpg
END:VEVENT
BEGIN:VEVENT
DTSTART;TZID=UTC:20241110T080000
DTEND;TZID=UTC:20241110T170000
DTSTAMP:20260421T165817
CREATED:20241110T171912Z
LAST-MODIFIED:20241110T171912Z
UID:54342-1731225600-1731258000@rac.rw
SUMMARY:ARC 6- EQUATOR RALLY KENYA
DESCRIPTION:
URL:https://rac.rw/event/arc-6-equator-rally-kenya/
END:VEVENT
BEGIN:VEVENT
DTSTART;TZID=UTC:20240312T133000
DTEND;TZID=UTC:20240528T170000
DTSTAMP:20260421T165817
CREATED:20200504T181610Z
LAST-MODIFIED:20241110T171811Z
UID:1743-1710250200-1716915600@rac.rw
SUMMARY:RNRC 3 SPRINT RALLY (GAKO)|
DESCRIPTION:
URL:https://rac.rw/event/rnrc-3-sprint-rally-gako/
LOCATION:Kigali – Rwanda\, 23VV+MQ9\, Convention Ctr Roundabout\, Kigali\, Kigali\, Kigali City\, Rwanda
CATEGORIES:Astrology
ATTACH;FMTTYPE=image/jpeg:https://rac.rw/wp-content/uploads/2023/11/post26-copyright.jpg
ORGANIZER;CN="Ashton Porter":MAILTO:info@example.com
END:VEVENT
END:VCALENDAR